BEGIN:VCALENDAR
VERSION:2.0
PRODID:-//SV-Waldhausen - ECPv6.15.13//NONSGML v1.0//EN
CALSCALE:GREGORIAN
METHOD:PUBLISH
X-ORIGINAL-URL:https://svwaldhausen1967.de
X-WR-CALDESC:Veranstaltungen für SV-Waldhausen
REFRESH-INTERVAL;VALUE=DURATION:PT1H
X-Robots-Tag:noindex
X-PUBLISHED-TTL:PT1H
BEGIN:VTIMEZONE
TZID:UTC
BEGIN:STANDARD
TZOFFSETFROM:+0000
TZOFFSETTO:+0000
TZNAME:UTC
DTSTART:20250101T000000
END:STANDARD
END:VTIMEZONE
BEGIN:VEVENT
DTSTART;TZID=UTC:20260603T190000
DTEND;TZID=UTC:20260603T190000
DTSTAMP:20260424T152723
CREATED:20251118T075036Z
LAST-MODIFIED:20251118T075125Z
UID:11109-1780513200-1780513200@svwaldhausen1967.de
SUMMARY:Saisonabschlussfeier
DESCRIPTION:
URL:https://svwaldhausen1967.de/veranstaltungen/saisonabschlussfeier-svw
LOCATION:Sportheim Waldhausen
CATEGORIES:Veranstaltung
END:VEVENT
BEGIN:VEVENT
DTSTART;TZID=UTC:20260613T000000
DTEND;TZID=UTC:20260613T000000
DTSTAMP:20260424T152723
CREATED:20250613T120038Z
LAST-MODIFIED:20251114T075802Z
UID:11046-1781308800-1781308800@svwaldhausen1967.de
SUMMARY:Fussball Tennis Turnier
DESCRIPTION:
URL:https://svwaldhausen1967.de/veranstaltungen/fussball-tennis-turnier
LOCATION:Sportplatz Waldhausen
CATEGORIES:Veranstaltung
END:VEVENT
END:VCALENDAR