BEGIN:VCALENDAR
VERSION:2.0
PRODID:-//SV-Waldhausen - ECPv6.15.13//NONSGML v1.0//EN
CALSCALE:GREGORIAN
METHOD:PUBLISH
X-WR-CALNAME:SV-Waldhausen
X-ORIGINAL-URL:https://svwaldhausen1967.de
X-WR-CALDESC:Veranstaltungen für SV-Waldhausen
REFRESH-INTERVAL;VALUE=DURATION:PT1H
X-Robots-Tag:noindex
X-PUBLISHED-TTL:PT1H
BEGIN:VTIMEZONE
TZID:UTC
BEGIN:STANDARD
TZOFFSETFROM:+0000
TZOFFSETTO:+0000
TZNAME:UTC
DTSTART:20250101T000000
END:STANDARD
END:VTIMEZONE
BEGIN:VEVENT
DTSTART;TZID=UTC:20261205T193000
DTEND;TZID=UTC:20261205T193000
DTSTAMP:20260424T153855
CREATED:20251114T080907Z
LAST-MODIFIED:20251114T081929Z
UID:11055-1796499000-1796499000@svwaldhausen1967.de
SUMMARY:Nikolaus Feier SVW
DESCRIPTION:
URL:https://svwaldhausen1967.de/veranstaltungen/nikolaus-feier-svw
LOCATION:Turnhalle Waldhausen
CATEGORIES:Veranstaltung
END:VEVENT
END:VCALENDAR